BEGIN:VCALENDAR
VERSION:2.0
PRODID:-//Plone.org//NONSGML plone.app.event//EN
X-WR-TIMEZONE:Europe/Berlin
BEGIN:VEVENT
SUMMARY:FIW-Kolloquium: Biomeducal Innovations
DTSTART;TZID=Europe/Berlin:20260505T123000
DTEND;TZID=Europe/Berlin:20260505T140000
DTSTAMP:20260422T214902Z
UID:fe8cfb69abae4f22b614f9822cff1e78@www.fiw.uni-bonn.de
CREATED:20260324T104828Z
DESCRIPTION:Beim FIW-Kolloquium am 05. Mai 2026 referiert Silvia Vallarta 
 Cervantes (FIW) zum Thema "Understanding the development of biomedical inn
 ovations: A comparative analysis of structures and dynamics in Germany and
  Mexico during the COVID-19 Pandemic".\n\nDas Kolloquium dient den FIW-Mit
 gliedern sowie interessierten Kolleg*innen zur Präsentation eigener Forsc
 hungsprojekte und zum fachlichen Austausch. Die Sitzungen finden jeweils d
 ienstags von 12:30 bis 14:00 Uhr virtuell statt. \n\nInteressierte sind he
 rzlich zur Teilnahme und Diskussion eingeladen. Den Link zur Teilnahme erh
 alten Sie nach vorheriger Anmeldung per Mail an stefan.priester@uni-bonn.d
 e.
LAST-MODIFIED:20260324T112306Z
URL:https://www.fiw.uni-bonn.de/de/veranstaltungen/veranstaltungen-allgeme
 in/2026/fiw-kolloquium-biomeducal-innovations
END:VEVENT
BEGIN:VEVENT
SUMMARY:7. Roundtable der Bonn Platform for (Forced) Migration Studies
DTSTART;TZID=Europe/Berlin:20260505T170000
DTEND;TZID=Europe/Berlin:20260505T193000
DTSTAMP:20260422T214902Z
UID:aea0fa9514ff4000b634f42b5b8725fe@www.fiw.uni-bonn.de
CREATED:20260324T104043Z
DESCRIPTION:Die Bonn Platform for Forced Migration Studies ist eine im Jah
 r 2023 von Wissenschaftlerinnen und akademischen Managerinnen etablierte K
 ooperation zwischen bicc (Bonn International Centre for Conflict Studies)\
 , FFVT (Flucht- und Flüchtlingsforschung: Vernetzung und Transfer)\, der 
 Universität Bonn und dem Bonner Institut für Migrationsforschung und Int
 erkulturelles Lernen (BIM e.V.) mit seinem Haus der Vielfalt Migrapolis. \
 n\nZiel der Runden Tische ist es\, Bonner Stakeholder zu den Themen Flucht
  und Migration zusammenzubringen\, und eine Plattform für Erfahrungsausta
 usch\, kollegiale Beratung und gemeinsames Lernen zu bieten. Mit seinem in
 teraktiven Charakter möchten die Runden Tische Teilnehmende dazu ermutige
 n\, eigene Themen einzubringen und in Dialoge einzutreten.\n\nWir freuen u
 ns über Ihre Teilnahme.
LAST-MODIFIED:20260408T101820Z
URL:https://www.fiw.uni-bonn.de/de/veranstaltungen/veranstaltungen-allgeme
 in/2026/7-roundtable-der-bonn-platform-for-forced-migration-studies
END:VEVENT
BEGIN:VEVENT
SUMMARY:FIW-Kolloquium: Transdisciplinary Humanities
DTSTART;TZID=Europe/Berlin:20260519T123000
DTEND;TZID=Europe/Berlin:20260519T140000
DTSTAMP:20260422T214902Z
UID:aea8d152d4ce4a59b951495eb272e2e0@www.fiw.uni-bonn.de
CREATED:20260324T104828Z
DESCRIPTION:Beim FIW-Kolloquium am 19. Mai 2026 referiert Adrian Hermann (
 FIW) zum Thema "Transdisciplinary Humanities". \n\nDas Kolloquium dient de
 n FIW-Mitgliedern sowie interessierten Kolleg*innen zur Präsentation eige
 ner Forschungsprojekte und zum fachlichen Austausch. Die Sitzungen finden 
 jeweils dienstags von 12:30 bis 14:00 Uhr virtuell statt. \n\nInteressiert
 e sind herzlich zur Teilnahme und Diskussion eingeladen. Den Link zur Teil
 nahme erhalten Sie nach vorheriger Anmeldung per Mail an stefan.priester@u
 ni-bonn.de.
LAST-MODIFIED:20260324T112306Z
URL:https://www.fiw.uni-bonn.de/de/veranstaltungen/veranstaltungen-allgeme
 in/2026/fiw-kolloquium-transdisciplinary-humanities
END:VEVENT
BEGIN:VEVENT
SUMMARY:FIW-Kolloquium: Transforming Biodiversity Governance
DTSTART;TZID=Europe/Berlin:20260616T123000
DTEND;TZID=Europe/Berlin:20260616T140000
DTSTAMP:20260422T214902Z
UID:424381117e6446409783e15b96d75d66@www.fiw.uni-bonn.de
CREATED:20260324T104828Z
DESCRIPTION:Beim FIW-Kolloquium am 16. Juni 2026 referiert Damien Krichews
 ky (FIW) zum Thema "Transforming biodiversity governance beyond the modern
  order: interim results of a transdisciplinary experiment". \n\nDas Kolloq
 uium dient den FIW-Mitgliedern sowie interessierten Kolleg*innen zur Präs
 entation eigener Forschungsprojekte und zum fachlichen Austausch. Die Sitz
 ungen finden jeweils dienstags von 12:30 bis 14:00 Uhr virtuell statt. \n\
 nInteressierte sind herzlich zur Teilnahme und Diskussion eingeladen. Den 
 Link zur Teilnahme erhalten Sie nach vorheriger Anmeldung per Mail an stef
 an.priester@uni-bonn.de.
LAST-MODIFIED:20260324T112306Z
URL:https://www.fiw.uni-bonn.de/de/veranstaltungen/veranstaltungen-allgeme
 in/2026/fiw-kolloquium-transforming-biodiversity-governance
END:VEVENT
BEGIN:VEVENT
SUMMARY:FIW-Kolloquium: Soziologie und technische Reproduzierbarkeit
DTSTART;TZID=Europe/Berlin:20260630T123000
DTEND;TZID=Europe/Berlin:20260630T140000
DTSTAMP:20260422T214902Z
UID:a096bc12f050436fa114cace9746c517@www.fiw.uni-bonn.de
CREATED:20260324T104828Z
DESCRIPTION:Beim FIW-Kolloquium am 30. Juni 2026 referiert Stefan Priester
  (FIW) zum Thema "Soziologie im Zeitalter ihrer technischen Reproduzierbar
 keit". \n\nDas Kolloquium dient den FIW-Mitgliedern sowie interessierten K
 olleg*innen zur Präsentation eigener Forschungsprojekte und zum fachliche
 n Austausch. Die Sitzungen finden jeweils dienstags von 12:30 bis 14:00 Uh
 r virtuell statt. \n\nInteressierte sind herzlich zur Teilnahme und Diskus
 sion eingeladen. Den Link zur Teilnahme erhalten Sie nach vorheriger Anmel
 dung per Mail an stefan.priester@uni-bonn.de.
LAST-MODIFIED:20260324T112306Z
URL:https://www.fiw.uni-bonn.de/de/veranstaltungen/veranstaltungen-allgeme
 in/2026/fiw-kolloquium-soziologie-und-technische-reproduzierbarkeit
END:VEVENT
BEGIN:VEVENT
SUMMARY:FIW-Kolloquium: Klosterkultur im modernen Brettspiel
DTSTART;TZID=Europe/Berlin:20260714T123000
DTEND;TZID=Europe/Berlin:20260714T140000
DTSTAMP:20260422T214902Z
UID:062634de6c364b288483d4bd87ea3d5a@www.fiw.uni-bonn.de
CREATED:20260324T104828Z
DESCRIPTION:Beim FIW-Kolloquium am 14. Juli 2026 referiert Lukas Boch (FIW
 ) zum Thema "Bierbrauende Mönche und Kriegerische Nonnen - Klosterkultur 
 im modernen Brettspiel". \n\nDas Kolloquium dient den FIW-Mitgliedern sowi
 e interessierten Kolleg*innen zur Präsentation eigener Forschungsprojekte
  und zum fachlichen Austausch. Die Sitzungen finden jeweils dienstags von 
 12:30 bis 14:00 Uhr virtuell statt. \n\nInteressierte sind herzlich zur Te
 ilnahme und Diskussion eingeladen. Den Link zur Teilnahme erhalten Sie nac
 h vorheriger Anmeldung per Mail an stefan.priester@uni-bonn.de.
LAST-MODIFIED:20260324T112333Z
URL:https://www.fiw.uni-bonn.de/de/veranstaltungen/veranstaltungen-allgeme
 in/2026/fiw-kolloquium-klosterkultur-im-modernen-brettspiel
END:VEVENT
BEGIN:VEVENT
SUMMARY:11. DAAD-Sommeruniversität 2026: CfP
DTSTART;VALUE=DATE:20260718
DTEND;VALUE=DATE:20260722
DTSTAMP:20260422T214902Z
UID:b9f330fe13da4671ae7abe88d8e68671@www.fiw.uni-bonn.de
CREATED:20260223T122158Z
DESCRIPTION:in Kooperation mit dem Forum Internationale Wissenschaft (FIW)
 \n18. bis 21. Juli 2026\n\nDie vom Forum Internationale Wissenschaft (FIW)
  in Kooperation mit dem Institut für Soziologie der Universität Bonn org
 anisierte DAAD-Sommeruniversität 2026 widmet sich den multiplen Herausfor
 derungen\, mit denen Hochschulen weltweit konfrontiert sind. Über vier Ta
 ge beschäftigen wir uns mit einer Auswahl von Kernthemen\, die die wissen
 schafts- und hochschulpolitische Agenda bestimmen. Dabei interessiert eine
 rseits\, wie Hochschulen im internationalen Vergleich auf verschiedene Anf
 echtungen reagieren\, andererseits\, wie sie ihre eigenen Ansprüche gerad
 e angesichts zunehmender Herausforderungen aufrechterhalten – und wie s
 ich das Portfolio ihrer Ansprüche verändert.\n\nWissenschaftliche Leitun
 g:\nProf. Dr. David Kaldewey\nin Zusammenarbeit mit \nDr. Lena Laube\nProf
 . Dr. Adrian Hermann
LAST-MODIFIED:20260223T123105Z
URL:https://www.fiw.uni-bonn.de/de/veranstaltungen/veranstaltungen-allgeme
 in/2026/11-daad-sommeruniversitaet-2026-call-for-papers
END:VEVENT
BEGIN:VTIMEZONE
TZID:Europe/Berlin
X-LIC-LOCATION:Europe/Berlin
BEGIN:DAYLIGHT
DTSTART:20260329T030000
TZNAME:CEST
TZOFFSETFROM:+0100
TZOFFSETTO:+0200
END:DAYLIGHT
END:VTIMEZONE
END:VCALENDAR
